BEGIN:VCALENDAR
VERSION:2.0
PRODID:-//The Waterfront - ECPv6.15.20//NONSGML v1.0//EN
CALSCALE:GREGORIAN
METHOD:PUBLISH
X-WR-CALNAME:The Waterfront
X-ORIGINAL-URL:https://thewaterfrontdaphne.com
X-WR-CALDESC:Events for The Waterfront
REFRESH-INTERVAL;VALUE=DURATION:PT1H
X-Robots-Tag:noindex
X-PUBLISHED-TTL:PT1H
BEGIN:VTIMEZONE
TZID:UTC
BEGIN:STANDARD
TZOFFSETFROM:+0000
TZOFFSETTO:+0000
TZNAME:UTC
DTSTART:20220101T000000
END:STANDARD
END:VTIMEZONE
BEGIN:VEVENT
DTSTART;VALUE=DATE:20231013
DTEND;VALUE=DATE:20231014
DTSTAMP:20260424T211653
CREATED:20230927T204026Z
LAST-MODIFIED:20230927T204026Z
UID:704-1697155200-1697241599@thewaterfrontdaphne.com
SUMMARY:Live Music: Jimmy Ray Tanner
DESCRIPTION:Happy Hour 3-6pm
URL:https://thewaterfrontdaphne.com/event/live-music-ray-tanner/
ATTACH;FMTTYPE=image/jpeg:https://thewaterfrontdaphne.com/wp-content/uploads/2023/08/mys.jpg
END:VEVENT
END:VCALENDAR